BEGIN:VCALENDAR
VERSION:2.0
PRODID:-//Pluk de Nacht - ECPv6.15.17//NONSGML v1.0//EN
CALSCALE:GREGORIAN
METHOD:PUBLISH
X-ORIGINAL-URL:https://plukdenacht.nl
X-WR-CALDESC:Evenementen voor Pluk de Nacht
REFRESH-INTERVAL;VALUE=DURATION:PT1H
X-Robots-Tag:noindex
X-PUBLISHED-TTL:PT1H
BEGIN:VTIMEZONE
TZID:Europe/Amsterdam
BEGIN:DAYLIGHT
TZOFFSETFROM:+0100
TZOFFSETTO:+0200
TZNAME:CEST
DTSTART:20220327T010000
END:DAYLIGHT
BEGIN:STANDARD
TZOFFSETFROM:+0200
TZOFFSETTO:+0100
TZNAME:CET
DTSTART:20221030T010000
END:STANDARD
BEGIN:DAYLIGHT
TZOFFSETFROM:+0100
TZOFFSETTO:+0200
TZNAME:CEST
DTSTART:20230326T010000
END:DAYLIGHT
BEGIN:STANDARD
TZOFFSETFROM:+0200
TZOFFSETTO:+0100
TZNAME:CET
DTSTART:20231029T010000
END:STANDARD
BEGIN:DAYLIGHT
TZOFFSETFROM:+0100
TZOFFSETTO:+0200
TZNAME:CEST
DTSTART:20240331T010000
END:DAYLIGHT
BEGIN:STANDARD
TZOFFSETFROM:+0200
TZOFFSETTO:+0100
TZNAME:CET
DTSTART:20241027T010000
END:STANDARD
END:VTIMEZONE
BEGIN:VEVENT
DTSTART;TZID=Europe/Amsterdam:20230818T120000
DTEND;TZID=Europe/Amsterdam:20230818T235900
DTSTAMP:20260420T051036
CREATED:20230723T203217Z
LAST-MODIFIED:20230816T110033Z
UID:607-1692360000-1692403140@plukdenacht.nl
SUMMARY:18 Augustus 2023
DESCRIPTION:vrijdag18 augustus\n\n\n\n\n\n\n\n\n\nRandprogramma\n\n\n\n\n\n\ntoegang gratis\n\n\n\n\n\n\n\nArt\n\n\nVanaf 18:00\n\n\n\nBasecamp Utrecht \n\n\n\n\n\nKunstinstallaties\, bowlingbaan en ander vermaak\n\n\n\nOp het festivalterrein is er van alles te beleven! \n\n\n\n\n\n\nHet festivalterrein met bar en popcorn op Nijverheidsweg 16 opent dagelijks om 18:00 uur. \n\n\n\n\n\n\n\n\n\n\nOpenlucht filmprogramma\n\n\n\n\n\nTickets\n\n\n\n\n\n\nShort\n\n\nVanaf 21:30\n\n\n\nBasecamp Utrecht \n\n\n\n\n\nShort\n\n\n\ndeze titel maken we binnenkort bekend \n\n\n\n\n\n\nFeature\n\n\n\n\n\n\n \n\n\n\n\n\nMartinez\n\n\n\nLorena Padilla | Mexico\, Frankrijk | 93′ \n\n\n\n\n\n\nMartínez is als een ideale\, uitgebalanceerde zomeravond-cocktail. Gelijke delen melancholie\, eenzaamheid\, menselijkheid en warmte\, een flinke scheut ongemak en een dopje droge humor\, gegoten in prachtig gecomponeerde\, verstilde beelden\, afgemaakt met nostalgische jarenzeventig synthmuziek. \n\n\n\n\n\n\n\n\n\nLees meer over de film\n\n\n\n\n\n\n\n\n\n\n\n\nTickets\n\n\n\n\n\n\n\n\n\nDe Stille Nachtclub\n\n\n\n\n\n\ntoegang gratis\n\n\n\n\n\n\n\nParty\n\n\nNa de film\n\n\n\nTent \n\n\n\n\n\nSilent Disco in de tent\n\n\n\nVerschillende DJ’s
URL:https://plukdenacht.nl/event/18-augustus-2023/
LOCATION:Utrecht
CATEGORIES:Utrecht2023
END:VEVENT
END:VCALENDAR