BEGIN:VCALENDAR
VERSION:2.0
PRODID:-//Pluk de Nacht - ECPv6.15.17//NONSGML v1.0//EN
CALSCALE:GREGORIAN
METHOD:PUBLISH
X-WR-CALNAME:Pluk de Nacht
X-ORIGINAL-URL:https://plukdenacht.nl
X-WR-CALDESC:Evenementen voor Pluk de Nacht
REFRESH-INTERVAL;VALUE=DURATION:PT1H
X-Robots-Tag:noindex
X-PUBLISHED-TTL:PT1H
BEGIN:VTIMEZONE
TZID:Europe/Amsterdam
BEGIN:DAYLIGHT
TZOFFSETFROM:+0100
TZOFFSETTO:+0200
TZNAME:CEST
DTSTART:20220327T010000
END:DAYLIGHT
BEGIN:STANDARD
TZOFFSETFROM:+0200
TZOFFSETTO:+0100
TZNAME:CET
DTSTART:20221030T010000
END:STANDARD
BEGIN:DAYLIGHT
TZOFFSETFROM:+0100
TZOFFSETTO:+0200
TZNAME:CEST
DTSTART:20230326T010000
END:DAYLIGHT
BEGIN:STANDARD
TZOFFSETFROM:+0200
TZOFFSETTO:+0100
TZNAME:CET
DTSTART:20231029T010000
END:STANDARD
BEGIN:DAYLIGHT
TZOFFSETFROM:+0100
TZOFFSETTO:+0200
TZNAME:CEST
DTSTART:20240331T010000
END:DAYLIGHT
BEGIN:STANDARD
TZOFFSETFROM:+0200
TZOFFSETTO:+0100
TZNAME:CET
DTSTART:20241027T010000
END:STANDARD
END:VTIMEZONE
BEGIN:VEVENT
DTSTART;TZID=Europe/Amsterdam:20230825T120000
DTEND;TZID=Europe/Amsterdam:20230825T235900
DTSTAMP:20260420T050944
CREATED:20230723T213122Z
LAST-MODIFIED:20230825T161633Z
UID:644-1692964800-1693007940@plukdenacht.nl
SUMMARY:25 Augustus 2023
DESCRIPTION:vrijdag25 augustus\n\n\n\n\n\n\n\n\n\nRandprogramma\n\n\n\n\n\n\ntoegang gratis\n\n\n\n\n\n\n\nArt\n\n\nVanaf 18:00\n\n\n\nStenen Hoofd Amsterdam \n\n\n\n\n\nKunstinstallaties\, bowlingbaan en ander vermaak\n\n\n\nOp het festivalterrein is er van alles te beleven! \n\n\n\n\n\n\nHet festivalterrein met bar en foodtrucks op het Stenen Hoofd opent dagelijks om 18:00 uur. \n\n\n\n\n\n\n\n\n\n\nOpenlucht filmprogramma\n\n\n\n\n\nTickets\n\n\n\n\n\n\nShort\n\n\nVanaf 21:30\n\n\n\nStenen Hoofd Amsterdam \n\n\n\n\n\nShort\n\n\n\ndeze titel maken we binnenkort bekend \n\n\n\n\n\n\nFeature\n\n\n\n\n\n\n \n\n\n\n\n\nPeak Season\n\n\n\nSteven Kanter\, Henry Loevner | Verenigde Staten | 82′ \n\n\n\n\n\n\nTwee New Yorkse yuppen komen naar een pittoresk plaatsje in de natuur om te ontsnappen aan hun drukke leven. Als haar verloofde wordt teruggeroepen voor werk\, blijft Amy alleen achter om de omgeving te verkennen\, rondgeleid door natuurgids Loren. \n\n\n\n\n\n\n\n\n\nLees meer over de film\n\n\n\n\n\n\n\n\n\n\n\n\nTickets\n\n\n\n\n\n\n\n\n\nDe Stille Nachtclub\n\n\n\n\n\n\ntoegang gratis\n\n\n\n\n\n\n\nParty\n\n\nNa de film\n\n\n\nCircustent \n\n\n\n\n\nSilent Disco in de tent\n\n\n\nVerschillende DJ’s
URL:https://plukdenacht.nl/event/25-augustus-2023/
LOCATION:Amsterdam
CATEGORIES:Amsterdam2023
END:VEVENT
END:VCALENDAR