BEGIN:VCALENDAR
VERSION:2.0
PRODID:-//Pluk de Nacht - ECPv6.15.17//NONSGML v1.0//EN
CALSCALE:GREGORIAN
METHOD:PUBLISH
X-WR-CALNAME:Pluk de Nacht
X-ORIGINAL-URL:https://plukdenacht.nl
X-WR-CALDESC:Evenementen voor Pluk de Nacht
REFRESH-INTERVAL;VALUE=DURATION:PT1H
X-Robots-Tag:noindex
X-PUBLISHED-TTL:PT1H
BEGIN:VTIMEZONE
TZID:Europe/Amsterdam
BEGIN:DAYLIGHT
TZOFFSETFROM:+0100
TZOFFSETTO:+0200
TZNAME:CEST
DTSTART:20220327T010000
END:DAYLIGHT
BEGIN:STANDARD
TZOFFSETFROM:+0200
TZOFFSETTO:+0100
TZNAME:CET
DTSTART:20221030T010000
END:STANDARD
BEGIN:DAYLIGHT
TZOFFSETFROM:+0100
TZOFFSETTO:+0200
TZNAME:CEST
DTSTART:20230326T010000
END:DAYLIGHT
BEGIN:STANDARD
TZOFFSETFROM:+0200
TZOFFSETTO:+0100
TZNAME:CET
DTSTART:20231029T010000
END:STANDARD
BEGIN:DAYLIGHT
TZOFFSETFROM:+0100
TZOFFSETTO:+0200
TZNAME:CEST
DTSTART:20240331T010000
END:DAYLIGHT
BEGIN:STANDARD
TZOFFSETFROM:+0200
TZOFFSETTO:+0100
TZNAME:CET
DTSTART:20241027T010000
END:STANDARD
END:VTIMEZONE
BEGIN:VEVENT
DTSTART;TZID=Europe/Amsterdam:20230827T120000
DTEND;TZID=Europe/Amsterdam:20230827T235900
DTSTAMP:20260420T050945
CREATED:20230723T220644Z
LAST-MODIFIED:20230728T132434Z
UID:667-1693137600-1693180740@plukdenacht.nl
SUMMARY:27 Augustus 2023
DESCRIPTION:zondag27 augustus\n\n\n\n\n\n\n\n\n\nRandprogramma\n\n\n\n\n\n\ntoegang gratis\n\n\n\n\n\n\n\nArt\n\n\nVanaf 14:00\n\n\n\nStenen HoofdAmsterdam \n\n\n\n\n\nKunstinstallaties\, bowlingbaan en ander vermaak\n\n\n\nOp het festivalterrein is er van alles te beleven! \n\n\n\n\n\n\nHet festivalterrein met bar en foodtrucks op het Stenen Hoofd opent deze zondag al om 14:00 uur i.v.m. Pluk MINI.  \n\n\n\n\n\n\n\n\n\n\nMiddagprogramma: Pluk MINI\n\n\n\n\n\n\n\n\n\n\nOther\n\n\n14:00 – 17:30\n\n\n\nStenen HoofdAmsterdam \n\n\n\n\n\nPluk MINI 2023: kindereditie van Pluk de Nacht\n\n\n\nDe achtste editie van Pluk MINI is net als alle voorgaande edities gratis toegankelijk voor kinderen en hun ouders\, oppassers\, verzorgers\, opa’s én oma’s. \n\n\n\n\n\n\nIn de circustent kunnen kinderen genieten van Stip en Vlek\, een serie over twee geinige konijnen die in korte verhalen bewijzen dat het samen veel leuker (en gekker) is dan alleen. Buiten de tent kan er heerlijk gespeeld worden op het Stenen Hoofd. Je hebt voor Pluk MINI geen kaartje nodig! \n\n\n\n\n\n\n\n\n\nLees meer over Pluk MINI\n\n\n\n\n\n\n\n\n\n\n\n\n\n\n\n\n\n\n\n\nOpenlucht filmprogramma\n\n\n\n\n\nTickets\n\n\n\n\n\n\nShort\n\n\nVanaf 21:30\n\n\n\nStenen HoofdAmsterdam \n\n\n\n\n\nShort\n\n\n\ndeze titel maken we binnenkort bekend \n\n\n\n\n\n\nFeature\n\n\n\n\n\n\n \n\n\n\n\n\nHere\n\n\n\nBas Devos | België | 82′ \n\n\n\n\n\n\nDankzij de gevoelige cinemablik van Bas Devos worden de kleinste observaties grootse gebaren. Wandel mee door zijn Brussel en ervaar hoe de Belgische hoofdstad wordt omgetoverd tot een fascinerend microkosmos. \n\n\n\n\n\n\n\n\n\nLees meer over de film\n\n\n\n\n\n\n\n\n\n\n\n\nTickets
URL:https://plukdenacht.nl/event/27-augustus-2023/
LOCATION:Amsterdam
CATEGORIES:Amsterdam2023
ATTACH;FMTTYPE=image/png:https://plukdenacht.nl/wp-content/uploads/2023/07/Stip-en-Vlek-3.png
END:VEVENT
END:VCALENDAR