BEGIN:VCALENDAR
VERSION:2.0
PRODID:-//Pluk de Nacht - ECPv6.15.17//NONSGML v1.0//EN
CALSCALE:GREGORIAN
METHOD:PUBLISH
X-ORIGINAL-URL:https://plukdenacht.nl
X-WR-CALDESC:Evenementen voor Pluk de Nacht
REFRESH-INTERVAL;VALUE=DURATION:PT1H
X-Robots-Tag:noindex
X-PUBLISHED-TTL:PT1H
BEGIN:VTIMEZONE
TZID:Europe/Amsterdam
BEGIN:DAYLIGHT
TZOFFSETFROM:+0100
TZOFFSETTO:+0200
TZNAME:CEST
DTSTART:20220327T010000
END:DAYLIGHT
BEGIN:STANDARD
TZOFFSETFROM:+0200
TZOFFSETTO:+0100
TZNAME:CET
DTSTART:20221030T010000
END:STANDARD
BEGIN:DAYLIGHT
TZOFFSETFROM:+0100
TZOFFSETTO:+0200
TZNAME:CEST
DTSTART:20230326T010000
END:DAYLIGHT
BEGIN:STANDARD
TZOFFSETFROM:+0200
TZOFFSETTO:+0100
TZNAME:CET
DTSTART:20231029T010000
END:STANDARD
BEGIN:DAYLIGHT
TZOFFSETFROM:+0100
TZOFFSETTO:+0200
TZNAME:CEST
DTSTART:20240331T010000
END:DAYLIGHT
BEGIN:STANDARD
TZOFFSETFROM:+0200
TZOFFSETTO:+0100
TZNAME:CET
DTSTART:20241027T010000
END:STANDARD
END:VTIMEZONE
BEGIN:VEVENT
DTSTART;TZID=Europe/Amsterdam:20230828T120000
DTEND;TZID=Europe/Amsterdam:20230828T235900
DTSTAMP:20260420T032903
CREATED:20230723T221255Z
LAST-MODIFIED:20230726T211431Z
UID:670-1693224000-1693267140@plukdenacht.nl
SUMMARY:28 Augustus 2023
DESCRIPTION:maandag28 augustus\n\n\n\n\n\n\n\n\n\nRandprogramma\n\n\n\n\n\n\ntoegang gratis\n\n\n\n\n\n\n\nArt\n\n\nVanaf 18:00\n\n\n\nStenen HoofdAmsterdam \n\n\n\n\n\nKunstinstallaties\, bowlingbaan en ander vermaak\n\n\n\nOp het festivalterrein is er van alles te beleven! \n\n\n\n\n\n\nHet festivalterrein met bar en foodtrucks op het Stenen Hoofd opent dagelijks om 18:00 uur.  \n\n\n\n\n\n\n\n\n\n\nOpenlucht filmprogramma\n\n\n\n\n\nTickets\n\n\n\n\n\n\nShort\n\n\nVanaf 21:30\n\n\n\nStenen HoofdAmsterdam \n\n\n\n\n\nShort\n\n\n\ndeze titel maken we binnenkort bekend \n\n\n\n\n\n\nFeature\n\n\n\n\n\n\n \n\n\n\n\n\nThe Happiest Man in the World\n\n\n\nTeona Strugar Mitevska | Macedonië\, Bosnië en Herzegovina | 100′ \n\n\n\n\n\n\nWat als je op een eerste date gaat in Sarajevo? In een datingclub met mensen die allemaal hun eerste date hebben? En wat als jij en je date allebei de oorlog in Bosnië nog hebben meegemaakt? En als je er dan langzaam achterkomt hoe? Wat dan? Dan dit. \n\n\n\n\n\n\n\n\n\nLees meer over de film\n\n\n\n\n\n\n\n\n\n\n\n\nTickets
URL:https://plukdenacht.nl/event/28-augustus-2023/
LOCATION:Amsterdam
CATEGORIES:Amsterdam2023
END:VEVENT
END:VCALENDAR